Workbook

Sheet LINEAR MARKING
B2: LINEAR PAVEMENT MARKING
B3: ITEM | C3: DESCRIPTION | D3: UNIT | E3: EXISTING QUANTITY | F3: PROPOSED QUANTITY | G3: SAFETY ELIGIBLE QUANTITY | H3: AVERAGE UNIT PRICE | I3: SAFETY ELIGIBLE COST
B4: Example:
B5: 716-02.03 | C5: PLASTIC PAVEMENT MARKING (CROSS-WALK) | D5: L.F. | E5: 210 | F5: 310 | G5: =IF(AND(E5="",F5=""),"",(IF((F5-E5)>0,F5-E5,""))) -> 100 | H5: 26.81 | I5: =G5*H5 -> 2681
B6: 716-02.05 | C6: PLASTIC PAVEMENT MARKING (STOP LINE) | D6: L.F. | E6: 196 | F6: 196 | H6: 21.97 | I6: =G6*H6 -> 0
B7: 716-02.09 | C7: PLASTIC PAVEMENT MARKING (LONGITUDINAL CROSS-WALK) | D7: L.F. | F7: 196 | G7: =IF(AND(E7="",F7=""),"",(IF((F7-E7)>0,F7-E7,""))) -> 196 | H7: 38.28 | I7: =G7*H7 -> 7502.88
B9: 716-02.03 | C9: PLASTIC PAVEMENT MARKING (CROSS-WALK) (transverse/parallel lines) | D9: L.F. | G9: =IF(AND(E9="",F9=""),"", F9-E9) | I9: =IF(G9="","",(G9*H9))
B10: 716-02.05 | C10: PLASTIC PAVEMENT MARKING (STOP LINE) | D10: L.F. | G10: =IF(AND(E10="",F10=""),"", F10-E10) | I10: =IF(G10="","",(G10*H10))
B11: 716-02.07 | C11: PLASTIC PAVEMENT MARKING (24" BARRIER LINE) (around traffic islands) | D11: L.F. | G11: =IF(AND(E11="",F11=""),"", F11-E11) | I11: =IF(G11="","",(G11*H11))
B12: 716-02.08 | C12: PLASTIC PAVEMENT MARKING (8" DOTTED LINE) | D12: L.F. | G12: =IF(AND(E12="",F12=""),"", F12-E12) | I12: =IF(G12="","",(G12*H12))
B13: 716-02.09 | C13: PLASTIC PAVEMENT MARKING (LONGITUDINAL CROSS-WALK) (piano key) | D13: L.F. | G13: =IF(AND(E13="",F13=""),"", F13-E13) | I13: =IF(G13="","",(G13*H13))
B14: 716-02.11 | C14: PLSTIC PAVEMENT MARKING (6" DOTTED LINE) | D14: L.F. | G14: =IF(AND(E14="",F14=""),"", F14-E14) | I14: =IF(G14="","",(G14*H14))
B15: 716-02.22 | C15: PLASTIC AERIAL SPEED BARS | D15: L.F. | G15: =IF(AND(E15="",F15=""),"", F15-E15) | I15: =IF(G15="","",(G15*H15))
B16: 716-02.23 | C16: PLASTIC PAVEMENT MARKING (12IN BARRIER LINE) | D16: L.F. | G16: =IF(AND(E16="",F16=""),"", F16-E16) | I16: =IF(G16="","",(G16*H16))
B17: 716-02.24 | C17: PLASTIC PAVEMENT MARKING (12IN DWL) | D17: L.F. | G17: =IF(AND(E17="",F17=""),"", F17-E17) | I17: =IF(G17="","",(G17*H17))
B18: 716-04.03 | C18: PLASTIC PAVEMENT MARKING (4" DOTTED LINE) | D18: L.F. | G18: =IF(AND(E18="",F18=""),"", F18-E18) | I18: =IF(G18="","",(G18*H18))
B19: 716-04.04 | C19: PLASTIC PAVEMENT MARKING (TRANSVERSE SHOULDER) (at shoulder or access control islands) | D19: L.F. | G19: =IF(AND(E19="",F19=""),"", F19-E19) | I19: =IF(G19="","",(G19*H19))
B20: 716-09.02 | C20: WET REFLEC PVMT MARKING(8" BARRIER LINE) | D20: L.F. | G20: =IF(AND(E20="",F20=""),"", F20-E20) | I20: =IF(G20="","",(G20*H20))
... B76: 716-40.42 | C76: GROOVING FOR RECESSED PAVEMENT MARKING (SOLID) | D76: L.M. | G76: =IF(AND(E76="",F76=""),"", F76-E76) | I76: =IF(G76="","",(G76*H76))
B77: SUB-TOTAL LINEAR MARKING | I77: =SUM(I9:I76) -> 0

Sheet INDIVIDUAL & OTHER MARKING
B2: INDIVIDUAL & SPECIALTY MARKING ITEMS
B3: ITEM | C3: DESCRIPTION | D3: UNIT | E3: EXISTING QUANTITY | F3: PROPOSED QUANTITY | G3: SAFETY ELIGIBLE QUANTITY | H3: AVERAGE UNIT PRICE | I3: SAFETY ELIGIBLE COST
B4: 716-02.06 | C4: PLASTIC PAVEMENT MARKING (TURN LANE ARROW) | D4: EACH | G4: =IF(AND(E4="",F4=""),"", F4-E4) | I4: =IF(G4="","",(G4*H4))
B5: 716-02.15 | C5: PLSTIC PAVEMENT MARKING (U-TURN ARROW) | D5: EACH | G5: =IF(AND(E5="",F5=""),"", F5-E5) | I5: =IF(G5="","",(G5*H5))
B6: 716-03.01 | C6: PLASTIC WORD PAVEMENT MARKING (ONLY) | D6: EACH | G6: =IF(AND(E6="",F6=""),"", F6-E6) | I6: =IF(G6="","",(G6*H6))
B7: 716-03.02 | C7: PLASTIC WORD PAVEMENT MARKING (RXR) | D7: EACH | G7: =IF(AND(E7="",F7=""),"", F7-E7) | I7: =IF(G7="","",(G7*H7))
B8: 716-03.03 | C8: PLASTIC WORD PAVEMENT MARKING (STOP AHEAD) | D8: EACH | G8: =IF(AND(E8="",F8=""),"", F8-E8) | I8: =IF(G8="","",(G8*H8))
B9: 716-03.04 | C9: PLASTIC WORD PAVEMENT MARKING (SCHOOL) | D9: EACH | G9: =IF(AND(E9="",F9=""),"", F9-E9) | I9: =IF(G9="","",(G9*H9))
B10: 716-03.05 | C10: PLASTIC WORD PAVEMENT MARKING (BIKE LANE) | D10: EACH | G10: =IF(AND(E10="",F10=""),"", F10-E10) | I10: =IF(G10="","",(G10*H10))
B11: 716-03.06 | C11: PLASTIC WORD PAVEMENT MARKING (SIGNAL AHEAD) | D11: EACH | G11: =IF(AND(E11="",F11=""),"", F11-E11) | I11: =IF(G11="","",(G11*H11))
B12: 716-03.07 | C12: PLASTIC WORD PAVEMENT MARKING (STOP) | D12: EACH | G12: =IF(AND(E12="",F12=""),"", F12-E12) | I12: =IF(G12="","",(G12*H12))
B13: 716-03.08 | C13: PLASTIC WORD PAVEMENT MARKING (PED-XING) | D13: EACH | G13: =IF(AND(E13="",F13=""),"", F13-E13) | I13: =IF(G13="","",(G13*H13))
B14: 716-03.09 | C14: PLASTIC WORD PAVEMENT MARKING ( ) | D14: EACH | G14: =IF(AND(E14="",F14=""),"", F14-E14) | I14: =IF(G14="","",(G14*H14))
B15: 716-03.10 | C15: PLASTIC WORD PAVEMENT MARKING ( ) | D15: EACH | G15: =IF(AND(E15="",F15=""),"", F15-E15) | I15: =IF(G15="","",(G15*H15))
... B46: 716-09.30 | C46: WET REFLECTIVE CHANNELIZATION STRIPING | D46: S.Y. | G46: =IF(AND(E46="",F46=""),"", F46-E46) | I46: =IF(G46="","",(G46*H46))
B47: SUB-TOTAL INDIVIDUAL AND SPECIALTY MARKING | I47: =SUM(I4:I46) -> 0

Sheet PAVEMENT APPURTENANCES
B2: PAVEMENT APPURTENANCES
B3: ITEM | C3: DESCRIPTION | D3: UNIT | E3: EXISTING QUANTITY | F3: PROPOSED QUANTITY | G3: SAFETY ELIGIBLE QUANTITY | H3: AVERAGE UNIT PRICE | I3: SAFETY ELIGIBLE COST
B4: 411-12.01 | C4: SCORING SHOULDERS (CONTINUOUS) (16IN WIDTH) | D4: L.M. | G4: =IF(AND(E4="",F4=""),"", F4-E4) | I4: =IF(G4="","",(G4*H4))
B5: 411-12.02 | C5: SCORING SHOULDERS (NON-CONTINUOUS) (16IN WIDTH) | D5: L.M. | G5: =IF(AND(E5="",F5=""),"", F5-E5) | I5: =IF(G5="","",(G5*H5))
B6: 411-12.03 | C6: SCORING FOR RUMBLE STRIPE (NON-CONTINUOUS) (8IN WIDTH) | D6: L.M. | G6: =IF(AND(E6="",F6=""),"", F6-E6) | I6: =IF(G6="","",(G6*H6))
B7: 411-12.04 | C7: SCORING FOR RUMBLE STRIPE (NON-CONTINUOUS) (4IN WIDTH) | D7: L.M. | G7: =IF(AND(E7="",F7=""),"", F7-E7) | I7: =IF(G7="","",(G7*H7))
B8: 411-12.05 | C8: SCORING FOR CENTERLINE RUMBLE (4IN WIDTH-21IN SPACING) | D8: L.M. | G8: =IF(AND(E8="",F8=""),"", F8-E8) | I8: =IF(G8="","",(G8*H8))
B9: 411-12.10 | C9: SHOULDER MUMBLE STRIP (NON-CONTINUOUS) (8IN WIDTH) | D9: L.M. | G9: =IF(AND(E9="",F9=""),"", F9-E9) | I9: =IF(G9="","",(G9*H9))
B10: 411-12.11 | C10: EDGE LINE MUMBLE STRIPE (NON-CONTINUOUS) (8IN WIDTH) | D10: L.M. | G10: =IF(AND(E10="",F10=""),"", F10-E10) | I10: =IF(G10="","",(G10*H10))
B11: 501-03.10 | C11: CONCRETE SHOULDER RUMBLE STRIPS | D11: L.F. | G11: =IF(AND(E11="",F11=""),"", F11-E11) | I11: =IF(G11="","",(G11*H11))
B12: 501-03.15 | C12: CONCRETE SHOULDER MILLED RUMBLE STRIPS | D12: L.M. | G12: =IF(AND(E12="",F12=""),"", F12-E12) | I12: =IF(G12="","",(G12*H12))
B14: 716-01.21 | C14: SNOWPLOWABLE RAISED PAVEMENT MARKER (BI-DIRECTIONAL) (1 COLOR LENS) | D14: EACH | G14: =IF(AND(E14="",F14=""),"", F14-E14) | I14: =IF(G14="","",(G14*H14))
B15: 716-01.22 | C15: SNOWPLOWABLE RAISED PAVEMENT MARKER (MONO-DIRECTIONAL) (1 COLOR LENS) | D15: EACH | G15: =IF(AND(E15="",F15=""),"", F15-E15) | I15: =IF(G15="","",(G15*H15))
B16: 716-01.23 | C16: SNOWPLOWABLE RAISED PAVEMENT MARKER (BI-DIRECTIONAL) (2 COLOR LENS) | D16: EACH | G16: =IF(AND(E16="",F16=""),"", F16-E16) | I16: =IF(G16="","",(G16*H16))
... B19: 406-04.04 | C19: HIGH FRICTION SURFACE TREATMENT (DOUBLE LIFT) | D19: S.Y. | G19: =IF(AND(E19="",F19=""),"", F19-E19) | I19: =IF(G19="","",(G19*H19))
B21: 611-03.04 | C21: GRAY IRON CASTINGS (CATCHBASIN) | D21: L.B. | I21: =IF(G21="","",(G21*H21))
B22: 611-09.01 | C22: ADJUSTMENT OF EXISTING CATCHBASIN | D22: EACH | I22: =IF(G22="","",(G22*H22))
B23: 611-09.02 | C23: REWORK CATCHBASIN | D23: EACH | I23: =IF(G23="","",(G23*H23))
B24: 611-09.04 | C24: CATCHBASIN RETROFIT | D24: EACH | I24: =IF(G24="","",(G24*H24))
B55: SUB-TOTAL PAVEMENT APPURTENANCES | I55: =SUM(I4:I54) -> 0

Sheet GUARDRAIL
B2: GUARDRAIL
B3: ITEM | C3: DESCRIPTION | D3: UNIT | E3: SAFETY ELIGIBLE QUANTITY | F3: AVERAGE UNIT PRICE | G3: SAFETY ELIGIBLE COST
B4: While guardrail items are safety eligible items, replacement or installation of guardrail should be limited to that which is required to make safety adjustments to terminals and terminal heights.. Excessive requests for guardrail replacement should be discussed with the Pavement PM prior to inclusion as this may be work that should be performed by maintenance.
B5: 705-01.01 | C5: GUARDRAIL AT BRIDGE ENDS | D5: L.F. | G5: =IF(E5="","",(E5*F5))
B6: 705-01.03 | C6: GUARDRAIL AT BRIDGE ENDS, RUB-RAIL LONG POST | D6: L.F. | G6: =IF(E6="","",(E6*F6))
B7: 705-01.04 | C7: METAL BEAM GUARD FENCE | D7: L.F. | G7: =IF(E7="","",(E7*F7))
B8: 705-01.05 | C8: GUARDRAIL AT BRIDGE ENDS LOW VOLUME | D8: EACH | G8: =IF(E8="","",(E8*F8))
B9: 705-02.01 | C9: SINGLE GUARDRAIL, WITH RUB-RAIL (TYPE 2) | D9: L.F. | G9: =IF(E9="","",(E9*F9))
B10: 705-02.02 | C10: SINGLE GUARDRAIL (TYPE 2) | D10: L.F. | G10: =IF(E10="","",(E10*F10))
B11: 705-02.03 | C11: SINGLE GUARDRAIL (TYPE 2) LONG POST | D11: L.F. | G11: =IF(E11="","",(E11*F11))
B12: 705-02.04 | C12: SINGLE GUARDRAIL, RUB-RAIL (TYPE 2) LONG POST | D12: L.F. | G12: =IF(E12="","",(E12*F12))
B13: 705-02.05 | C13: RUB RAIL (ONLY) | D13: L.F. | G13: =IF(E13="","",(E13*F13))
B14: 705-02.10 | C14: GUARDRAIL TRANSITION 27IN TO 31IN | D14: EACH | G14: =IF(E14="","",(E14*F14))
B15: 705.02.20 | C15: SINGLE GUARDRAIL (TYPE 2) LONG POST (6-FT-9 FT) | D15: L.F. | G15: =IF(E15="","",(E15*F15))
B16: 705.02.25 | C16: SINGLE GUARDRAIL (TYPE 2) LONG POST (9-FT-12 FT) | D16: L.F. | G16: =IF(E16="","",(E16*F16))
... B60: 706-10.84 | C60: GUARDRAIL POST HINGE REFLECTORS | D60: EACH | G60: =IF(E60="","",(E60*F60))
G61: =IF(E61="","",(E61*F61))
B62: SUB-TOTAL GUARDRAIL | G62: =SUM(G5:G61) -> 0

Sheet SIGNS
B2: SIGNS
B3: ITEM | C3: DESCRIPTION | D3: UNIT | E3: SAFETY ELIGIBLE QUANTITY | F3: AVERAGE UNIT PRICE | G3: SAFETY ELIGIBLE COST
B4: While signs are safety eligible items, there should be a limited number of signs included in a resurfacing project. Excessive requests for signs should be discussed with the Pavement PM prior to inclusion as this may be reviewed as an independent safety project or possibly work that should be performed by maintenance.
B5: 713-15 | C5: REMOVAL OF SIGNS, POSTS AND FOOTINGS | D5: LS | G5: =IF(E5="","",(E5*F5))
B6: 713-15.01 | C6: REMOVAL OF EXISTING SIGN POST | D6: EACH | G6: =IF(E6="","",(E6*F6))
B7: 713-15.02 | C7: REMVOAL & RELOCATION OF SIGN & SUPPORT | D7: EACH | G7: =IF(E7="","",(E7*F7))
B8: 713-15.36 | C8: REMOVE SIGN, SUPPORT & FOOTING | D8: EACH | G8: =IF(E8="","",(E8*F8))
B9: 713-15.41 | C9: SIGN REMOVAL (DESCRIPTION) | D9: LS | G9: =IF(E9="","",(E9*F9))
B10: 713-16.09 | C10: RAILROAD ADVANCE WARNING SIGN AND SUPPORT | D10: EACH | G10: =IF(E10="","",(E10*F10))
B11: 713-16.10 | C11: SOLAR FLASHING ASSEMBLY (WITH 36" SIGN) | D11: EACH | G11: =IF(E11="","",(E11*F11))
B12: 713-16.11 | C12: SOLAR FLASHING ASSEMBLY (WITH 48" SIGN) | D12: EACH | G12: =IF(E12="","",(E12*F12))
B13: 713-16.20 | C13: SIGNS (DESCRIPTION) (MUTCD sign designation, description, size) | D13: EACH | G13: =IF(E13="","",(E13*F13))
B14: 713-16.21 | C14: SIGNS (DESCRIPTION) | D14: EACH | G14: =IF(E14="","",(E14*F14))
B15: 713-16.22 | C15: SIGNS (DESCRIPTION) | D15: EACH | G15: =IF(E15="","",(E15*F15))
B16: 713-16.23 | C16: SIGNS (DESCRIPTION) | D16: EACH | G16: =IF(E16="","",(E16*F16))
... B34: 713-17.64 | C34: SIGN MOUNTED ON CONCRETE MEDIAN BARRIER ( ) | D34: EACH | G34: =IF(E34="","",(E34*F34))
B36: SUB-TOTAL SIGNS | G36: =SUM(G4:G35) -> 0

Sheet COST ANALYSIS
B2: {=MID(CELL("filename",A1),FIND("[",CELL("filename",A1))+1,FIND("]",CELL("filename",A1))-FIND("[",CELL("filename",A1))-1)} -> Safety Funding Analysis Form.xlsx
B3: PROJECT PIN | D3: COUNTY | F3: ROUTE
B4: BEGIN L.M. | D4: END L.M. | F4: EXCLUSION
B5: DESCRIPTION
B6: ='LINEAR MARKING'!B77 -> SUB-TOTAL LINEAR MARKING | G6: ='LINEAR MARKING'!I77 -> 0
B7: ='INDIVIDUAL & OTHER MARKING'!B47 -> SUB-TOTAL INDIVIDUAL AND SPECIALTY MARKING | G7: ='INDIVIDUAL & OTHER MARKING'!I47 -> 0
B8: ='PAVEMENT APPURTENANCES'!B55 -> SUB-TOTAL PAVEMENT APPURTENANCES | G8: ='PAVEMENT APPURTENANCES'!I55 -> 0
B9: =GUARDRAIL!B62 -> SUB-TOTAL GUARDRAIL | G9: =GUARDRAIL!G62 -> 0
B10: =SIGNS!B36 -> SUB-TOTAL SIGNS | G10: =SIGNS!G36 -> 0
B11: GRAND TOTAL HSIP ELIGIBLE COSTS | G11: =SUM(G6:G10) -> 0
