Workbook

Sheet Instructions
A1: Application Instructions
A2: 1. Save a copy of this document by selecting "File" and "Save As". Save your document in the follow format: District Name - School Name - Team Name - Recipe Name
A4: 2. Complete the Application and Recipe Analyzer Tool worksheets in the application workbook. If your team chooses to conduct a student taste test, complete the Taste Test worksheet. The taste test is optional, and teams will not be penalized if this worksheet is left blank. Insert a photograph of your completed dish on the Recipe Photo worksheet. If you are unable to insert the photo into the workbook, you may submit it separately by email. Many cells within the workbook are locked to protect the formatting and formulas. You may enter information in all unlocked cells. The only exception is the Digital Signature field, which requires special instructions (see below). If you encounter a cell that you believe has been inadvertently locked, please email Lynsey.Paul@tn.gov for assistance.
A9: Digital Signature – When seeking approval from your school’s principal and district's school nutrition director to participate in the competition, request a copy of his/her digitized signature and save it as an image (JPEG, PNG, GIF, TIF, etc.). If no digitized signature is available, you may submit an email confirmation of your principal’s approval along with your application.
A16: To place the digitized signature in the application: 1. Right click on the “Sample Signature” image 2. Select “Change Picture” 3. If required, select the “From File” option 4. Double click on saved image of the digitized signature or select and click “insert” to insert the image in the application.
A17: 3. Refer to the general application instructions for helpful tips when completing the application. This document is available on the Tennessee Department of Education School Nutrition website. 4. Submit a copy of the completed Excel application and the picture of the final dish (either inserted in the Recipe Photo sheet in this Application or via email) to Lynsey.Paul@tn.gov by December 18, 2026. Please title the email "Junior Chef Competition Entry for District Name - School Name - Team Name" and copy school.nutrition@tn.gov.
A26: This program was adapted from the Georgia Student Chef Competition. Georgia Department of Education, 2019.

Sheet Application
B2: TENNESSEE JUNIOR CHEF COMPETITION | D2: Tennessee Department of Education, School Nutrition Program | G2: Instructions: Complete this form and submit it with your recipe, nutrient analysis (either by using a nutrient analysis software or the Recipe Analyzer Tool), and an electronic photo of your dish by December 18, 2026. The application may be submitted as an email attachment to Lynsey.Paul@tn.gov and copy school.nutrition@tn.gov.
B4: Revised July 2026 | D4: All fields are required.
B5: Team Application
B6: Team Name
B7: School District
B8: School Name
B9: School Mailing Address
B10: Name of Principal or District Administrator | F10: Digital Signature An alternative document (e.g. email) may be submitted with the application if a digital signature is not available.
B11: Name of School Nutrition Director | F11: Digital Signature An alternative document (e.g. email) may be submitted with the application if a digital signature is not available.
B12: School Nutrition Director Email or Contact Phone Number
B13: Adult/Coach
B14: Supervising Adult/ Coach | G14: Relation to Student Team Members
B15: Mailing Address | G15: Phone Number
B16: Email Address
B17: Team Members (Allowed 4 team members. 1 optional alternate)
B18: Name | I18: Grade
B25: Recipe Entry Form
B26: Recipe Name
B27: Recipe Description
B28: Recipe source if starting from an existing recipe:
B29: Yield* | D29: Serving Size | F29: School Nutrition Crediting | H29: Preparation Time | I29: Cooking Time
B30: 6
B31: *Place a single number as the yield. Do not use a range (6-8 servings). For example, enter "6" if a recipe produces 6 servings.
B32: Nutrient Composition
B33: Calories per serving | E33: Milligrams of Sodium per Serving | H33: Percent Calories from Saturated Fat | I33: Is the recipe trans fat free? (Y or N)
B34: ='Recipe Analyzer Tool'!$F$39 -> 0 | E34: ='Recipe Analyzer Tool'!$K$39 -> 0 | H34: ='Recipe Analyzer Tool'!$L$39 -> 0 | I34: Yes
B35: Enter the name & amount of each ingredient (i.e., 1, ½, etc.), & the unit/measure (i.e., tsp., Tbsp., cup, oz., etc.). | C35: The name, amount & unit of each ingredient will auto-populate to the Recipe Analyzer Tool.
B36: Ingredient No. | C36: Amount | D36: Unit/Measure | E36: Ingredient Name
B37: 1
B38: 2
B39: 3
B40: 4
B41: 5
B42: 6
B43: 7
B44: 8
B45: 9
B46: 10
B47: 11
B48: 12
...

Sheet Recipe Analyzer Tool
D1: Recipe Analyzer Tool | O1: Directions for Calculating Calories and Nutrients for Recipes
A2: Team Name: | B2: Team A | O2: The purpose of this tool is to help you in calculating your calories and nutrients when developing a recipe. The ingredients, amount used in recipe and unit/measure will automatically populate based on your ingredients entered on the Application sheet. To assist you in completing the nutrient analysis, a list of common ingredient nutritional facts is available on the Tennessee Department of Education School Nutrition website if nutrition facts are unavailable. The list is not all-inclusive, but rather ingredients that are commonly observed in this competition. Please use https://foodbuyingguide.fns.usda.gov/ to find other common foods. Follow the steps below to calculate the nutrition information for a multi-ingredient recipe. 1. If the yield does not populate from the Application, enter the number of servings that your recipe makes into field C4. Enter a single number ("6") only. Do not enter a range ("6-8") 2. Calculate the total amount of calories and nutrients for each ingredient used in the recipe. Use nutrition facts labels, the Common Foods Nutrition Information Resource, or the USDA Nutrient Database at: https://fdc.nal.usda.gov/index.html to complete these calculations. Determine the calories and nutrients for each individual ingredient in the correct quantity, and enter the data into the spreadsheet, and it will add up the values for the total recipe. When you enter the number of servings, the spreadsheet will determine calories and nutrients per serving. Do not enter labels for the numbers (cal, g, mg). 3. Enter the per serving calories, protein, fat, carbohydrate, fiber, sodium, saturated fat, and cholesterol onto the application page if the numbers do not automatically populate. These values will be automatically calculated based on your recipe yield and the ingredient information you provide. 4. Answer Yes or No to whether the recipe is trans fat free on the application page (under Nutrient Composition). Food products and ingredients used in school meals must contain zero grams trans fat per serving (less than 0.5 grams per serving), according to the nutrition label, unless naturally occurring (such as in meat and dairy products). Labels for each ingredient should be reviewed to ensure they contain zero grams of trans fat per serving.
A3: Recipe: | B3: Oven Roasted Vegetables | C3: Values are rounded to the nearest whole number
A4: Yield* (Number of Servings): | C4: =Application!B30 -> 6
A5: Ingredient # | B5: Ingredients | C5: Amount | D5: Unit / Measure | E5: Gram weight | F5: Calories | G5: Protein | H5: Total Fat | I5: Carbo-hydrate | J5: Fiber | K5: Sodium | L5: Saturated Fat | M5: Choles-terol
E6: (g) | F6: (calories) | G6: (g) | H6: (g) | I6: (g) | J6: (g) | K6: (mg) | L6: (g) | M6: (mg)
A7: 1 | B7: =Application!E37 -> 0 | C7: =Application!$C$37 -> 0 | D7: =Application!D37 -> 0 | E7: 27 | H7: 1
A8: 2 | B8: =Application!E38 -> 0 | C8: =Application!$C$38 -> 0 | D8: =Application!D38 -> 0 | E8: 15.37
A9: 3 | B9: =Application!E39 -> 0 | C9: =Application!$C$39 -> 0 | D9: =Application!D39 -> 0 | E9: 0.6
A10: 4 | B10: =Application!E40 -> 0 | C10: =Application!$C$40 -> 0 | D10: =Application!D40 -> 0 | E10: 1.5
A11: 5 | B11: =Application!E41 -> 0 | C11: =Application!$C$41 -> 0 | D11: =Application!D41 -> 0 | E11: 0.57
A12: 6 | B12: =Application!E42 -> 0 | C12: =Application!$C$42 -> 0 | D12: =Application!D42 -> 0 | E12: 91
A13: 7 | B13: =Application!E43 -> 0 | C13: =Application!$C$43 -> 0 | D13: =Application!D43 -> 0 | E13: 128
A14: 8 | B14: =Application!E44 -> 0 | C14: =Application!$C$44 -> 0 | D14: =Application!D44 -> 0 | E14: 107
A15: 9 | B15: =Application!E45 -> 0 | C15: =Application!$C$45 -> 0 | D15: =Application!D45 -> 0
A16: 10 | B16: =Application!E46 -> 0 | C16: =Application!$C$46 -> 0 | D16: =Application!D46 -> 0
A17: 11 | B17: =Application!E47 -> 0 | C17: =Application!$C$47 -> 0 | D17: =Application!D47 -> 0
A18: 12 | B18: =Application!E48 -> 0 | C18: =Application!$C$48 -> 0 | D18: =Application!D48 -> 0
A19: 13 | B19: =Application!E49 -> 0 | C19: =Application!$C$49 -> 0 | D19: =Application!D49 -> 0
A20: 14 | B20: =Application!E50 -> 0 | C20: =Application!$C$50 -> 0 | D20: =Application!D50 -> 0
A21: 15 | B21: =Application!E51 -> 0 | C21: =Application!$C$51 -> 0 | D21: =Application!D51 -> 0
A22: 16 | B22: =Application!E52 -> 0 | C22: =Application!$C$52 -> 0 | D22: =Application!D52 -> 0
A23: 17 | B23: =Application!E53 -> 0 | C23: =Application!$C$53 -> 0 | D23: =Application!D53 -> 0
A24: 18 | B24: =Application!E54 -> 0 | C24: =Application!$C$54 -> 0 | D24: =Application!D54 -> 0
A25: 19 | B25: =Application!E55 -> 0 | C25: =Application!$C$55 -> 0 | D25: =Application!D54 -> 0
A26: 20 | B26: =Application!E56 -> 0 | C26: =Application!$C$56 -> 0 | D26: =Application!D55 -> 0
A27: 21 | B27: =Application!E57 -> 0 | C27: =Application!$C$57 -> 0 | D27: =Application!D56 -> 0
A28: 22 | B28: =Application!E58 -> 0 | C28: =Application!$C$58 -> 0 | D28: =Application!D57 -> 0
A29: 23 | B29: =Application!E59 -> 0 | C29: =Application!$C$59 -> 0 | D29: =Application!D58 -> 0 | M29: =SUM(M7:M27) -> 0
A30: 24 | B30: =Application!E60 -> 0 | C30: =Application!$C$60 -> 0 | D30: =Application!D59 -> 0 | M30: =SUM(M7:M27)/C4 -> 0
A31: 25 | B31: =Application!E61 -> 0 | C31: =Application!$C$61 -> 0 | D31: =Application!D60 -> 0
A32: 26 | B32: =Application!E62 -> 0 | C32: =Application!$C$62 -> 0 | D32: =Application!D61 -> 0
A33: 27 | B33: =Application!E63 -> 0 | C33: =Application!$C$63 -> 0 | D33: =Application!D62 -> 0
A34: 28 | B34: =Application!E64 -> 0 | C34: =Application!$C$64 -> 0 | D34: =Application!D63 -> 0
A35: 29 | B35: =Application!E65 -> 0 | C35: =Application!$C$65 -> 0 | D35: =Application!D64 -> 0
A36: 30 | B36: =Application!E66 -> 0 | C36: =Application!$C$66 -> 0 | D36: =Application!D65 -> 0
B37: Totals
C38: Whole recipe | E38: =SUM(E7:E36) -> 371.04 | F38: =SUM(F1:F36) -> 0 | G38: =SUM(G7:G36) -> 0 | H38: =SUM(H7:H36) -> 1 | I38: =SUM(I7:I36) -> 0 | J38: =SUM(J7:J36) -> 0 | K38: =SUM(K1:K36) -> 0 | L38: =SUM(L1:L36) -> 0
C39: Per single serving | E39: =SUM(E7:E36)/C4 -> 61.84 | F39: =SUM(F1:F36)/C4 -> 0 | G39: =SUM(G7:G36)/C4 -> 0 | H39: =SUM(H7:H36)/C4 -> 0.16666667 | I39: =SUM(I7:I36)/C4 -> 0 | J39: =SUM(J7:J36)/C4 -> 0 | K39: =SUM(K1:K36)/C4 -> 0 | L39: =SUM(L1:L36)/C4 -> 0
J40: total calories from Sat. Fat | K40: total calories from Sat. Fat | L40: =L39*9 -> 0
...

Sheet Taste Test
B1: Taste Test Results
A2: Instructions: Summarize the results of your student taste testing by completing the fields below. | L2: Conducting a taste test of your recipe is optional. Conducting a taste test may help your team determine if your recipe is student-friendly.
B5: How did you conduct the taste test? (write a brief description)
B15: How many students tasted the recipe?
B17: How many liked it?
B18: How many did not like it?
B19: How many would try it again?
B21: Summary of feedback on the recipe:
B31: Changes made to recipe based on feedback:

Sheet Recipe Photo
A1: Insert a photograph of the dish. Select cell 5, go to the Insert tab at the top, click on Picture and choose the photo you want to insert.

Sheet Sample Recipe
D1: Recipe Analyzer Tool | O1: Directions for Calculating Calories and Nutrients for Recipes
A2: Team Name: | B2: Team A | C2: This page is a sample recipe with the nutrient analyis completed. | O2: The purpose of this tool is to help aid you in calculating your calories and nutrients when developing a recipe. The ingredients, amount used in recipe and unit/measure will automatically populate based on your ingredients entered on the Application sheet. To assist you in completing the nutrient analysis, a list of common ingredient nutritional facts is available on the Tennessee Department of Education School Nutrition website if nutrition facts are unavailable. The list is not all-inclusive, but rather ingredients that are commonly observed in this competition. Please use https://foodbuyingguide.fns.usda.gov/ to find other common foods. Follow the steps below to calculate the nutrition information for a multi-ingredient recipe. 1. If the yield does not populate from the Application, enter the number of servings that your recipe makes into field C4. Enter a single number ("6") only. Do not enter a range ("6-8") 2. Calculate the total amount of calories and nutrients for each ingredient used in the recipe. Use nutrition facts labels, the Common Foods Nutrition Information Resource, or The USDA Nutrient Database at: https://fdc.nal.usda.gov/index.html to complete these calculations. Determine the calories and nutrients for each individual ingredient in the correct quantity and enter the data into the spreadsheet and it will add up values for the total recipe. When you enter the number of servings, the spreadsheet will determine calories and nutrients per serving. Do not enter labels for the numbers (cal, g, mg). 3. Enter the per serving calories, protein, fat, carbohydrate, fiber, sodium, saturated fat, and cholesterol onto the application page if the numbers do not automatically populate. These values will be automatically calculated based on your recipe yield and the ingredient information you provide. 4. Answer Yes or No to whether the recipe is trans fat free on the application page (under Nutrient Composition). Food products and ingredients used in school meals must contain zero grams trans fat per serving (less than 0.5 grams per serving), according to the nutrition label, unless naturally occurring (such as in meat and dairy products). Labels for each ingredient should be reviewed to ensure they contain zero grams of trans fat per serving.
A3: Recipe: | B3: Oven Roasted Vegetables | C3: Values are rounded to the nearest whole number
A4: Yield* (Number of Servings): | C4: =Application!B30 -> 6
A5: Ingredient # | B5: Ingredients | C5: Amount | D5: Unit / Measure | E5: Gram weight | F5: Calories | G5: Protein | H5: Total Fat | I5: Carbo-hydrate | J5: Fiber | K5: Sodium | L5: Saturated Fat | M5: Choles-terol
E6: (g) | F6: (calories) | G6: (g) | H6: (g) | I6: (g) | J6: (g) | K6: (mg) | L6: (g) | M6: (mg)
A7: 1 | B7: Olive Oil | C7: 1 | D7: Tbsp | E7: 27 | F7: 119 | H7: 1 | K7: 0 | L7: 2
A8: 2 | B8: Lemon juice | C8: 1 | D8: Tbsp | E8: 15.37 | F8: 3 | K8: 0 | L8: 0
A9: 3 | B9: Italian seasoning | C9: 0.5 | D9: tsp | E9: 0.6 | F9: 0 | K9: 0 | L9: 0
A10: 4 | B10: Salt | C10: 0.25 | D10: tsp | E10: 1.5 | F10: 0 | K10: 581 | L10: 0
A11: 5 | B11: Pepper | C11: 0.25 | D11: tsp | E11: 0.57 | F11: 1 | K11: 0 | L11: 0.008
A12: 6 | B12: Broccoli, chopped | C12: 1 | D12: cup | E12: 91 | F12: 31 | K12: 30 | L12: 0.104
A13: 7 | B13: Carrots, chopped | C13: 1 | D13: cup | E13: 128 | F13: 52 | K13: 88 | L13: 0.041
A14: 8 | B14: Cauliflower, chopped | C14: 1 | D14: cup | E14: 107 | F14: 27 | K14: 32 | L14: 0.139
A15: 9
A16: 10
A17: 11
A18: 12
A19: 13
A20: 14
A21: 15
A22: 16
A23: 17
A24: 18
A25: 19
A26: 20
... A28: 22
A29: 23 | M29: =SUM(M7:M27) -> 0
A30: 24 | M30: =SUM(M7:M27)/C4 -> 0
A31: 25
A32: 26
A33: 27
A34: 28
A35: 29
A36: 30
B37: Totals
C38: Whole recipe | E38: =SUM(E7:E36) -> 371.04 | F38: =SUM(F7:F36) -> 233 | G38: =SUM(G7:G36) -> 0 | H38: =SUM(H7:H36) -> 1 | I38: =SUM(I7:I36) -> 0 | J38: =SUM(J7:J36) -> 0 | K38: =SUM(K7:K36) -> 731 | L38: =SUM(L7:L36) -> 2.292
C39: Per single serving | E39: =SUM(E7:E36)/C4 -> 61.84 | F39: =SUM(F7:F36)/C4 -> 38.833333 | G39: =SUM(G7:G36)/C4 -> 0 | H39: =SUM(H7:H36)/C4 -> 0.16666667 | I39: =SUM(I7:I36)/C4 -> 0 | J39: =SUM(J7:J36)/C4 -> 0 | K39: =SUM(K7:K36)/C4 -> 121.83333 | L39: =SUM(L7:L36)/C4 -> 0.382
J40: total calories from Sat. Fat | K40: total calories from Sat Fat | L40: =L39*9 -> 3.438
J41: % calories from Sat. fat: | K41: % calories from Sat Fat | L41: =L40/F39 -> 0.088532189
...
